BEGIN:VCALENDAR
VERSION:2.0
CALSCALE:GREGORIAN
PRODID:-//Diputació de Barcelona//DibaCMS//EN
BEGIN:VEVENT
UID:5348
DTSTAMP:20260424T072830
DTSTART:20120907T000000
DTEND:20130907T000000
SUMMARY:Empleats del Consistori llagostenc es concentren en contra de les retallades
LOCATION:
METHOD:PUBLISH
X-WR-CALNAME:llagosta@llagosta.cat
X-WR-TIMEZONE:Europe/Madrid
DESCRIPTION:Treballadors de l'Ajuntament de la Llagosta s'han tornat a concentrar aquest matí davant de les portes de l'edifici consistorial per protestar contra les retallades aprovades pels governs central i autonòmic. Com cada divendres des del 27 de juliol, els empleats municipals de la nostra localitat s'han sumat a la protesta anomenada Divendres Negre, que porten a terme els treballadors públics de l'Estat espanyol cada divendres.
URI:https://www.llagosta.cat/actualitat/noticies/empleats-del-consistori-llagostenc-es-concentren-en-contra-de-les-retallades.html
CLASS:PUBLIC
END:VEVENT
END:VCALENDAR
