BEGIN:VCALENDAR
VERSION:2.0
CALSCALE:GREGORIAN
PRODID:-//Diputació de Barcelona//DibaCMS//EN
BEGIN:VEVENT
UID:5347
DTSTAMP:20260424T041516
DTSTART:20120907T000000
DTEND:20130907T000000
SUMMARY:Els dos equips del Joventut Handbol La Llagosta juguen avui partits de Festa Major
LOCATION:
METHOD:PUBLISH
X-WR-CALNAME:llagosta@llagosta.cat
X-WR-TIMEZONE:Europe/Madrid
DESCRIPTION:El Joventut Handbol La Llagosta disputa aquesta tarda dos partits de Festa Major. Tot i que l'activitat no surt al programa de festes, el club ha decidit organitzar aquesta competició una vegada començada la pretemporada i assegurats els rivals.
URI:https://www.llagosta.cat/actualitat/noticies/els-dos-equips-del-joventut-handbol-la-llagosta-juguen-avui-partits-de-festa-major.html
CLASS:PUBLIC
END:VEVENT
END:VCALENDAR
