BEGIN:VCALENDAR
VERSION:2.0
CALSCALE:GREGORIAN
PRODID:-//Diputació de Barcelona//DibaCMS//EN
BEGIN:VEVENT
UID:5346
DTSTAMP:20260424T043645
DTSTART:20120907T000000
DTEND:20130907T000000
SUMMARY:La Festa Major permetrà gaudir de més de seixanta actes durant els propers quatre dies
LOCATION:
METHOD:PUBLISH
X-WR-CALNAME:llagosta@llagosta.cat
X-WR-TIMEZONE:Europe/Madrid
DESCRIPTION:Més d'una seixantena d'activitats es desenvoluparan a la Llagosta durant els propers quatre dies en el marc de la Festa Major de 2012. La programació presenta algunes novetats, com que la discoteca mòbil tindrà lloc a la carpa de l'Institut Marina o alguns actes familiars. Aquest any, no hi haurà castell de focs artificials, ja que l'equip de govern municipal ha decidit retallar el pressupost de la Festa Gran un 10% a causa de la crisi.
URI:https://www.llagosta.cat/actualitat/noticies/la-festa-major-permetra-gaudir-de-mes-de-seixanta-actes-durant-els-propers-quatre-dies.html
CLASS:PUBLIC
END:VEVENT
END:VCALENDAR
