BEGIN:VCALENDAR
VERSION:2.0
CALSCALE:GREGORIAN
PRODID:-//Diputació de Barcelona//DibaCMS//EN
BEGIN:VEVENT
UID:5345
DTSTAMP:20260424T002722
DTSTART:20120907T000000
DTEND:20130907T000000
SUMMARY:La Llagosta celebrarà la Diada amb diversos actes a la plaça d'Antoni Baqué
LOCATION:
METHOD:PUBLISH
X-WR-CALNAME:llagosta@llagosta.cat
X-WR-TIMEZONE:Europe/Madrid
DESCRIPTION:La hissada de la Senyera a l'Ajuntament i el Cant dels Segadors seran els actes principals de la commemoració de la Diada de Catalunya a la Llagosta. Enguany, els voluntaris de l'Agrupació Local de Protecció Civil s'encarregaran de dur a terme la hissada de la Senyera, en reconeixement a la seva participació activa per extingir els incendis que durant el mes de juliol van cremar més de 13.000 hectàrees de boscos de l'Alt Empordà.
URI:https://www.llagosta.cat/actualitat/noticies/la-llagosta-celebrara-la-diada-amb-diversos-actes-a-la-placa-dantoni-baque.html
CLASS:PUBLIC
END:VEVENT
END:VCALENDAR
