BEGIN:VCALENDAR
VERSION:2.0
CALSCALE:GREGORIAN
PRODID:-//Diputació de Barcelona//DibaCMS//EN
BEGIN:VEVENT
UID:5344
DTSTAMP:20260424T022248
DTSTART:20120906T000000
DTEND:20130906T000000
SUMMARY:Paula Maciá, de la Llagosta, participa al Campionat d'Europa i Àfrica de wakeboard
LOCATION:
METHOD:PUBLISH
X-WR-CALNAME:llagosta@llagosta.cat
X-WR-TIMEZONE:Europe/Madrid
DESCRIPTION:La jove llagostenca Paula Maciá Bocanegra participa al Campionat d'Europa i Àfrica de wakeboard, una disciplina esportiva semblant a l'esquí aquàtic, però substituint el vaixell per un cable. La competició se celebra fins al 8 de setembre a la ciutat francesa de Toulouse.
URI:https://www.llagosta.cat/actualitat/noticies/paula-macia-de-la-llagosta-participa-al-campionat-deuropa-i-africa-de-wakeboard.html
CLASS:PUBLIC
END:VEVENT
END:VCALENDAR
