BEGIN:VCALENDAR
VERSION:2.0
CALSCALE:GREGORIAN
PRODID:-//Diputació de Barcelona//DibaCMS//EN
BEGIN:VEVENT
UID:5342
DTSTAMP:20260424T093014
DTSTART:20120906T000000
DTEND:20130906T000000
SUMMARY:El sènior del CD La Concòrdia s'enfrontarà dimarts al Vallirana en el torneig de Festa Major
LOCATION:
METHOD:PUBLISH
X-WR-CALNAME:llagosta@llagosta.cat
X-WR-TIMEZONE:Europe/Madrid
DESCRIPTION:El sènior del Club Deportivo La Concòrdia jugarà dimarts el torneig de Festa Major contra el Vallirana. El partit es disputarà a partir de les sis de la tarda al Poliesportiu Riera Seca.
URI:https://www.llagosta.cat/actualitat/noticies/el-senior-del-cd-la-concordia-senfrontara-dimarts-al-vallirana-en-el-torneig-de-festa-major.html
CLASS:PUBLIC
END:VEVENT
END:VCALENDAR
