BEGIN:VCALENDAR
VERSION:2.0
CALSCALE:GREGORIAN
PRODID:-//Diputació de Barcelona//DibaCMS//EN
BEGIN:VEVENT
UID:5341
DTSTAMP:20260424T075034
DTSTART:20120906T000000
DTEND:20130906T000000
SUMMARY:Les Escoles esportives que organitza l'Ajuntament han començat aquesta setmana
LOCATION:
METHOD:PUBLISH
X-WR-CALNAME:llagosta@llagosta.cat
X-WR-TIMEZONE:Europe/Madrid
DESCRIPTION:Aquesta setmana han començat les Escoles esportives organitzades per l'Ajuntament de la Llagosta a través del Consell Municipal de l'Esport i el Lleure. Iniciació esportiva, bàsquet, futbol sala, handbol i esports d'integració per a persones discapacitades són les activitats programades per a aquest curs.
URI:https://www.llagosta.cat/actualitat/noticies/les-escoles-esportives-que-organitza-lajuntament-han-comencat-aquesta-setmana.html
CLASS:PUBLIC
END:VEVENT
END:VCALENDAR
