BEGIN:VCALENDAR
VERSION:2.0
CALSCALE:GREGORIAN
PRODID:-//Diputació de Barcelona//DibaCMS//EN
BEGIN:VEVENT
UID:5340
DTSTAMP:20260424T091905
DTSTART:20120906T000000
DTEND:20130906T000000
SUMMARY:El concurs per escollir la Pubilleta de la Llagosta de 2012 comptarà amb 29 participants
LOCATION:
METHOD:PUBLISH
X-WR-CALNAME:llagosta@llagosta.cat
X-WR-TIMEZONE:Europe/Madrid
DESCRIPTION:Un total de 29 noies s'han inscrit per participar en el concurs per escollir la Pubilleta de la nostra localitat de 2012 que organitza l'Ajuntament. En aquest certamen participen nenes de la Llagosta nascudes entre els anys 2002 i 2005. 
URI:https://www.llagosta.cat/actualitat/noticies/el-concurs-per-escollir-la-pubilleta-de-la-llagosta-de-2012-comptara-amb-29-participants.html
CLASS:PUBLIC
END:VEVENT
END:VCALENDAR
