BEGIN:VCALENDAR
VERSION:2.0
CALSCALE:GREGORIAN
PRODID:-//Diputació de Barcelona//DibaCMS//EN
BEGIN:VEVENT
UID:5339
DTSTAMP:20260424T043242
DTSTART:20120905T000000
DTEND:20130905T000000
SUMMARY:El nombre d'aturats es va reduir a la Llagosta durant el juliol per tercer mes seguit
LOCATION:
METHOD:PUBLISH
X-WR-CALNAME:llagosta@llagosta.cat
X-WR-TIMEZONE:Europe/Madrid
DESCRIPTION:Durant el mes de juliol es va produir a la Llagosta el tercer descens consecutiu de l'atur. L'Oficina de Treball de la Generalitat registrava 20 llagostencs menys que al juny. Això suposava deixar la taxa de l'atur per sota del 20%, concretament en el 19,74%.
URI:https://www.llagosta.cat/actualitat/noticies/el-nombre-daturats-es-va-reduir-a-la-llagosta-durant-el-juliol-per-tercer-mes-seguit.html
CLASS:PUBLIC
END:VEVENT
END:VCALENDAR
