BEGIN:VCALENDAR
VERSION:2.0
CALSCALE:GREGORIAN
PRODID:-//Diputació de Barcelona//DibaCMS//EN
BEGIN:VEVENT
UID:5338
DTSTAMP:20260423T224403
DTSTART:20120905T000000
DTEND:20130905T000000
SUMMARY:Els dos equips de l'Handbol Club Vallag jugaran dissabte el torneig de Festa Major 
LOCATION:
METHOD:PUBLISH
X-WR-CALNAME:llagosta@llagosta.cat
X-WR-TIMEZONE:Europe/Madrid
DESCRIPTION:L'Handbol Club Vallag de la Llagosta disputarà durant la Festa Major els primers partits de pretemporada. Tant el conjunt sènior com el cadet jugaran contra el Sant Llorenç.
URI:https://www.llagosta.cat/actualitat/noticies/els-dos-equips-de-lhandbol-club-vallag-jugaran-dissabte-el-torneig-de-festa-major-.html
CLASS:PUBLIC
END:VEVENT
END:VCALENDAR
