BEGIN:VCALENDAR
VERSION:2.0
CALSCALE:GREGORIAN
PRODID:-//Diputació de Barcelona//DibaCMS//EN
BEGIN:VEVENT
UID:5337
DTSTAMP:20260424T042250
DTSTART:20120905T000000
DTEND:20130905T000000
SUMMARY:El FS Unión Llagostense comptarà aquesta temporada amb un segon equip
LOCATION:
METHOD:PUBLISH
X-WR-CALNAME:llagosta@llagosta.cat
X-WR-TIMEZONE:Europe/Madrid
DESCRIPTION:El Fútbol Sala Unión Llagostense tindrà aquesta propera temporada un segon equip. Aquest conjunt, que entrenarà Antonio Torrico, militarà a la Segona Territorial de la competició que organitza la Federació Catalana de Futbol Sala.
URI:https://www.llagosta.cat/actualitat/noticies/el-fs-union-llagostense-comptara-aquesta-temporada-amb-un-segon-equip.html
CLASS:PUBLIC
END:VEVENT
END:VCALENDAR
