BEGIN:VCALENDAR
VERSION:2.0
CALSCALE:GREGORIAN
PRODID:-//Diputació de Barcelona//DibaCMS//EN
BEGIN:VEVENT
UID:5336
DTSTAMP:20260423T205218
DTSTART:20120904T000000
DTEND:20130904T000000
SUMMARY:L'Ajuntament presenta la Festa Major amb novetats i la supressió del castell de focs
LOCATION:
METHOD:PUBLISH
X-WR-CALNAME:llagosta@llagosta.cat
X-WR-TIMEZONE:Europe/Madrid
DESCRIPTION:La Festa Major de la Llagosta no tindrà aquest any castell de focs artificials. Aquesta és una de les mesures que l'equip de govern ha pres per reduir el cost de la Festa Gran de la nostra localitat a causa de la crisi. El programa d'aquest any presenta algunes novetats, com ara activitats familiars, l'ampliació d'espais on se celebraran actes o el canvi d'ubicació de les disco mòbils.
URI:https://www.llagosta.cat/actualitat/noticies/lajuntament-presenta-la-festa-major-amb-novetats-i-la-supressio-del-castell-de-focs.html
CLASS:PUBLIC
END:VEVENT
END:VCALENDAR
