BEGIN:VCALENDAR
VERSION:2.0
CALSCALE:GREGORIAN
PRODID:-//Diputació de Barcelona//DibaCMS//EN
BEGIN:VEVENT
UID:5335
DTSTAMP:20260423T171942
DTSTART:20120904T000000
DTEND:20130904T000000
SUMMARY:Balanç positiu de les activitats de la programació de l'Estiu 2012, que acaben divendres
LOCATION:
METHOD:PUBLISH
X-WR-CALNAME:llagosta@llagosta.cat
X-WR-TIMEZONE:Europe/Madrid
DESCRIPTION:Una vegada que pràcticament ha finalitzat la programació de l'Estiu 2012, les  Regidories de Cultura i Esports de l'Ajuntament de la Llagosta han fet un balanç positiu del seu desenvolupament. La principal novetat de la programació estival de la nostra localitat ha estat la seva durada. Les activitats van començar al juny i finalitzaran el 7 de setembre, quan acabi el Campus d'handbol del Joventut Handbol la Llagosta.
URI:https://www.llagosta.cat/actualitat/noticies/balanc-positiu-de-les-activitats-de-la-programacio-de-lestiu-2012-que-acaben-divendres.html
CLASS:PUBLIC
END:VEVENT
END:VCALENDAR
