BEGIN:VCALENDAR
VERSION:2.0
CALSCALE:GREGORIAN
PRODID:-//Diputació de Barcelona//DibaCMS//EN
BEGIN:VEVENT
UID:5334
DTSTAMP:20260423T205255
DTSTART:20120904T000000
DTEND:20130904T000000
SUMMARY:El Club Deportivo Viejas Glorias derrota en un amistós el Canovelles per 4 gols a 2
LOCATION:
METHOD:PUBLISH
X-WR-CALNAME:llagosta@llagosta.cat
X-WR-TIMEZONE:Europe/Madrid
DESCRIPTION:El Club Deportivo Viejas Glorias va guanyar dissabte per 4 a 2 el Canovelles en el primer partit de la pretemporada. José Fernández va avançar els llagostencs al marcador, però el Canovelles va empatar. Amb el resultat d'1 a 1 es va arribar al descans.
URI:https://www.llagosta.cat/actualitat/noticies/el-club-deportivo-viejas-glorias-derrota-en-un-amistos-el-canovelles-per-4-gols-a-2.html
CLASS:PUBLIC
END:VEVENT
END:VCALENDAR
