BEGIN:VCALENDAR
VERSION:2.0
CALSCALE:GREGORIAN
PRODID:-//Diputació de Barcelona//DibaCMS//EN
BEGIN:VEVENT
UID:5332
DTSTAMP:20260423T205958
DTSTART:20120903T000000
DTEND:20130903T000000
SUMMARY:El Club Petanca Badalona, guanyador del 19è Memorial Ramón López celebrat ahir
LOCATION:
METHOD:PUBLISH
X-WR-CALNAME:llagosta@llagosta.cat
X-WR-TIMEZONE:Europe/Madrid
DESCRIPTION:El Club Petanca La Llagosta va celebrar ahir la dinovena edició del Memorial de Petanca Ramón López. El Club Petanca Badalona ha estat el guanyador absolut del torneig.
URI:https://www.llagosta.cat/actualitat/noticies/el-club-petanca-badalona-guanyador-del-19e-memorial-ramon-lopez-celebrat-ahir.html
CLASS:PUBLIC
END:VEVENT
END:VCALENDAR
