BEGIN:VCALENDAR
VERSION:2.0
CALSCALE:GREGORIAN
PRODID:-//Diputació de Barcelona//DibaCMS//EN
BEGIN:VEVENT
UID:5330
DTSTAMP:20260424T055516
DTSTART:20120903T000000
DTEND:20130903T000000
SUMMARY:Demà, es tallarà un tram del carrer de l'Estació per instal·lar l'escenari de la Festa Major
LOCATION:
METHOD:PUBLISH
X-WR-CALNAME:llagosta@llagosta.cat
X-WR-TIMEZONE:Europe/Madrid
DESCRIPTION:La Llagosta es prepara ja per a la Festa Major, que començarà dissabte i es perllongarà fins al dia 11 de setembre. L'Ajuntament ha distribuït el programa de la celebració pels domicilis i ha penjat els cartells que anuncien la Festa Gran de la nostra localitat. 
URI:https://www.llagosta.cat/actualitat/noticies/dema-es-tallara-un-tram-del-carrer-de-lestacio-per-installar-lescenari-de-la-festa-major.html
CLASS:PUBLIC
END:VEVENT
END:VCALENDAR
