BEGIN:VCALENDAR
VERSION:2.0
CALSCALE:GREGORIAN
PRODID:-//Diputació de Barcelona//DibaCMS//EN
BEGIN:VEVENT
UID:5329
DTSTAMP:20260423T224304
DTSTART:20120903T000000
DTEND:20130903T000000
SUMMARY:Dimecres finalitza el període de presentació d'obres al Concurs Nacional de Fotografia
LOCATION:
METHOD:PUBLISH
X-WR-CALNAME:llagosta@llagosta.cat
X-WR-TIMEZONE:Europe/Madrid
DESCRIPTION:Fins dimecres es poden presentar fotografies en el marc de la dotzena edició del Concurs Nacional de Fotografia La Llagosta, convocat pel Foto-Club La Llagosta. Les imatges han de ser lliurades a Can Pelegrí o, per correu, a l'apartat de correus 32 de la nostra localitat.
URI:https://www.llagosta.cat/actualitat/noticies/dimecres-finalitza-el-periode-de-presentacio-dobres-al-concurs-nacional-de-fotografia.html
CLASS:PUBLIC
END:VEVENT
END:VCALENDAR
