BEGIN:VCALENDAR
VERSION:2.0
CALSCALE:GREGORIAN
PRODID:-//Diputació de Barcelona//DibaCMS//EN
BEGIN:VEVENT
UID:5326
DTSTAMP:20260424T093056
DTSTART:20120827T000000
DTEND:20120905T000000
SUMMARY:Obert el període d'inscripció per participar en el concurs Pubilleta de la Llagosta 2012
LOCATION:
METHOD:PUBLISH
X-WR-CALNAME:llagosta@llagosta.cat
X-WR-TIMEZONE:Europe/Madrid
DESCRIPTION:L'Ajuntament de la Llagosta ha obert avui el període d'inscripció per participar en el concurs per escollir la Pubilleta de la nostra localitat de 2012. A aquest certamen es poden presentar totes les nenes de la Llagosta nascudes entre els anys 2002 i 2005. 
URI:https://www.llagosta.cat/actualitat/noticies/obert-el-periode-dinscripcio-per-participar-en-el-concurs-pubilleta-de-la-llagosta-2012.html
CLASS:PUBLIC
END:VEVENT
END:VCALENDAR
