BEGIN:VCALENDAR
VERSION:2.0
CALSCALE:GREGORIAN
PRODID:-//Diputació de Barcelona//DibaCMS//EN
BEGIN:VEVENT
UID:5325
DTSTAMP:20260424T055420
DTSTART:20120827T000000
DTEND:20120827T000000
SUMMARY:Avui comença el campus d'handbol que organitza el Joventut Handbol La Llagosta
LOCATION:
METHOD:PUBLISH
X-WR-CALNAME:llagosta@llagosta.cat
X-WR-TIMEZONE:Europe/Madrid
DESCRIPTION:El Joventut Handbol La Llagosta organitza des d'avui i fins al 7 de setembre un campus d'handbol a la nostra localitat. L'activitat, que forma part de la programació de l'estiu 2012, es desenvoluparà al Poliesportiu Riera Seca de nou del matí a una del migdia. 
URI:https://www.llagosta.cat/actualitat/noticies/avui-comenca-el-campus-dhandbol-que-organitza-el-joventut-handbol-la-llagosta.html
CLASS:PUBLIC
END:VEVENT
END:VCALENDAR
