BEGIN:VCALENDAR
VERSION:2.0
CALSCALE:GREGORIAN
PRODID:-//Diputació de Barcelona//DibaCMS//EN
BEGIN:VEVENT
UID:5324
DTSTAMP:20260424T004458
DTSTART:20120822T000000
DTEND:20130824T000000
SUMMARY:Es manté obert el període de presentació d'obres per al Concurs Nacional de Fotografia
LOCATION:
METHOD:PUBLISH
X-WR-CALNAME:llagosta@llagosta.cat
X-WR-TIMEZONE:Europe/Madrid
DESCRIPTION:El Foto-Club La Llagosta manté obert el període de presentació d'obres per a la  dotzena edició del Concurs Nacional de Fotografia La Llagosta. Les imatges es poden presentar fins al 5 de setembre a Can Pelegrí o per correu, a l'apartat de correus 32 de la nostra localitat.
URI:https://www.llagosta.cat/actualitat/noticies/es-mante-obert-el-periode-de-presentacio-dobres-per-al-concurs-nacional-de-fotografia.html
CLASS:PUBLIC
END:VEVENT
END:VCALENDAR
