BEGIN:VCALENDAR
VERSION:2.0
CALSCALE:GREGORIAN
PRODID:-//Diputació de Barcelona//DibaCMS//EN
BEGIN:VEVENT
UID:5323
DTSTAMP:20260423T141551
DTSTART:20120821T000000
DTEND:20120821T000000
SUMMARY:Aquesta tarda, nova sessió de tallers mediambientals i jocs en família
LOCATION:
METHOD:PUBLISH
X-WR-CALNAME:llagosta@llagosta.cat
X-WR-TIMEZONE:Europe/Madrid
DESCRIPTION:L'Escola Joan Maragall acollirà avui, entre les 19 i les 21 hores, tallers mediambientals i jocs en família. L'activitat forma part de la programació d'actes de l'estiu 2012. 
URI:https://www.llagosta.cat/actualitat/noticies/aquesta-tarda-nova-sessio-de-tallers-mediambientals-i-jocs-en-familia.html
CLASS:PUBLIC
END:VEVENT
END:VCALENDAR
