BEGIN:VCALENDAR
VERSION:2.0
CALSCALE:GREGORIAN
PRODID:-//Diputació de Barcelona//DibaCMS//EN
BEGIN:VEVENT
UID:5322
DTSTAMP:20260424T023401
DTSTART:20120818T000000
DTEND:20120819T000000
SUMMARY:Aquest vespre, segona sessió de cinema a la fresca amb la pel·lícula Intocable
LOCATION:
METHOD:PUBLISH
X-WR-CALNAME:llagosta@llagosta.cat
X-WR-TIMEZONE:Europe/Madrid
DESCRIPTION:L'Ajuntament de la Llagosta oferirà aquest vespre la segona i última sessió de cinema a la fresca de l'estiu. En concret, a partir de les 22.30 hores es projectarà la pel·lícula Intocable. L'activitat tindrà lloc al Parc Popular. Abans, s'hi podrà veure un curt sobre igualtat. 
URI:https://www.llagosta.cat/actualitat/noticies/aquest-vespre-segona-sessio-de-cinema-a-la-fresca-amb-la-pellicula-intocable.html
CLASS:PUBLIC
END:VEVENT
END:VCALENDAR
