BEGIN:VCALENDAR
VERSION:2.0
CALSCALE:GREGORIAN
PRODID:-//Diputació de Barcelona//DibaCMS//EN
BEGIN:VEVENT
UID:5320
DTSTAMP:20260424T043150
DTSTART:20120812T000000
DTEND:20120812T000000
SUMMARY:Aquesta mitjanit, Caminada sota els estels, organitzada pel Club Muntanyenc la Llagosta
LOCATION:
METHOD:PUBLISH
X-WR-CALNAME:llagosta@llagosta.cat
X-WR-TIMEZONE:Europe/Madrid
DESCRIPTION:El Club Esportiu Muntanyenc la Llagosta organitzarà a partir de les dotze de la nit una activitat que ha anomenat Caminada sota els estels i que forma part de la programació de l'estiu 2012. Els participants aniran per un recorregut per la zona de Ca l'Albinyana per veure la pluja d'estels de Sant Llorenç.
URI:https://www.llagosta.cat/actualitat/noticies/aquesta-mitjanit-caminada-sota-els-estels-organitzada-pel-club-muntanyenc-la-llagosta.html
CLASS:PUBLIC
END:VEVENT
END:VCALENDAR
