BEGIN:VCALENDAR
VERSION:2.0
CALSCALE:GREGORIAN
PRODID:-//Diputació de Barcelona//DibaCMS//EN
BEGIN:VEVENT
UID:5318
DTSTAMP:20260423T155124
DTSTART:20120804T000000
DTEND:20120804T000000
SUMMARY:Els bolivians de la Llagosta celebren avui el 187è aniversari de la independència del seu país
LOCATION:
METHOD:PUBLISH
X-WR-CALNAME:llagosta@llagosta.cat
X-WR-TIMEZONE:Europe/Madrid
DESCRIPTION:L'Asociación de residentes bolivianos en La Llagosta organitza avui una celebració amb motiu del 187è aniversari de la independència de Bolívia. Durant la jornada, tindran lloc diversos partits de futbol. L'acte tindrà lloc al Camp Municipal de Futbol Joan Gelabert. 
URI:https://www.llagosta.cat/actualitat/noticies/els-bolivians-de-la-llagosta-celebren-avui-el-187e-aniversari-de-la-independencia-del-seu-pais.html
CLASS:PUBLIC
END:VEVENT
END:VCALENDAR
