BEGIN:VCALENDAR
VERSION:2.0
CALSCALE:GREGORIAN
PRODID:-//Diputació de Barcelona//DibaCMS//EN
BEGIN:VEVENT
UID:5317
DTSTAMP:20260424T022057
DTSTART:20120803T000000
DTEND:20120807T000000
SUMMARY:Obert l'aparcament de la plaça de l'Alcalde Sisó Pons
LOCATION:
METHOD:PUBLISH
X-WR-CALNAME:llagosta@llagosta.cat
X-WR-TIMEZONE:Europe/Madrid
DESCRIPTION:Aquest dijous s'ha obert l'aparcament de vehicles de la plaça de l'Alcalde Sisó Pons, després de realitzar unes obres de millora i condicionament. Els treballs han consistit en l'asfaltat, l'arranjament de l'accés de vehicles a la zona  d'aparcament, la senyalització de l'entorn i el pintat de les diferents places de pàrquing. El pressupost de les obres ha estat de 25.315 euros, a càrrec de l'Ajuntament de la Llagosta.
URI:https://www.llagosta.cat/actualitat/noticies/obert-laparcament-de-la-placa-de-lalcalde-siso-pons.html
CLASS:PUBLIC
END:VEVENT
END:VCALENDAR
