BEGIN:VCALENDAR
VERSION:2.0
CALSCALE:GREGORIAN
PRODID:-//Diputació de Barcelona//DibaCMS//EN
BEGIN:VEVENT
UID:5316
DTSTAMP:20260423T140340
DTSTART:20120803T000000
DTEND:20120803T000000
SUMMARY:El Parc Popular serà la seu aquesta tarda d'una jornada de seguretat i emergències
LOCATION:
METHOD:PUBLISH
X-WR-CALNAME:llagosta@llagosta.cat
X-WR-TIMEZONE:Europe/Madrid
DESCRIPTION:L'Ajuntament de la Llagosta organitzarà avui una jornada de seguretat i emergències en el marc de la programació d'activitats de l'estiu. L'acte tindrà lloc entre les sis de la tarda i les nou del vespre al Parc Popular. Durant la jornada, hi haurà exposats vehicles dels Bombers, de Protecció Civil, dels Mossos d'Esquadra, de la Policia Local, dels Agents Rurals i del Servei d'Emergències Mèdiques. 
URI:https://www.llagosta.cat/actualitat/noticies/el-parc-popular-sera-la-seu-aquesta-tarda-duna-jornada-de-seguretat-i-emergencies.html
CLASS:PUBLIC
END:VEVENT
END:VCALENDAR
