BEGIN:VCALENDAR
VERSION:2.0
CALSCALE:GREGORIAN
PRODID:-//Diputació de Barcelona//DibaCMS//EN
BEGIN:VEVENT
UID:5315
DTSTAMP:20260424T053935
DTSTART:20120802T000000
DTEND:20120802T000000
SUMMARY:Aquest vespre es tanca el cicle de concerts a la fresca de La Llagosta + Activa
LOCATION:
METHOD:PUBLISH
X-WR-CALNAME:llagosta@llagosta.cat
X-WR-TIMEZONE:Europe/Madrid
DESCRIPTION:La Llagosta + Activa organitzarà aquest vespre el darrer concert a la fresca previst per a aquest estiu. L'acte començarà a les vuit al passatge Pedrosa i es desenvoluparà fins a les deu. En aquesta ocasió actuaran el duez de jazz Té para dos, format per teclat i veu, que interpretarà diversos temes de jazz, i el duet de guitarra Francisco G. y Cia., que interpretarà cançons d'autor.  
URI:https://www.llagosta.cat/actualitat/noticies/aquest-vespre-es-tanca-el-cicle-de-concerts-a-la-fresca-de-la-llagosta--activa.html
CLASS:PUBLIC
END:VEVENT
END:VCALENDAR
