BEGIN:VCALENDAR
VERSION:2.0
CALSCALE:GREGORIAN
PRODID:-//Diputació de Barcelona//DibaCMS//EN
BEGIN:VEVENT
UID:5314
DTSTAMP:20260424T023931
DTSTART:20120801T000000
DTEND:20120801T000000
SUMMARY:Avui, caminada nocturna per la Serralada de Marina amb el Club Muntanyenc la Llagosta
LOCATION:
METHOD:PUBLISH
X-WR-CALNAME:llagosta@llagosta.cat
X-WR-TIMEZONE:Europe/Madrid
DESCRIPTION:El Club Esportiu Muntanyenc la Llagosta organitza avui una caminada nocturna per la Serralada de Marina. L'activitat començarà a les vuit del vespre. La sortida es farà des de la plaça d'Antoni Baqué. 
URI:https://www.llagosta.cat/actualitat/noticies/avui-caminada-nocturna-per-la-serralada-de-marina-amb-el-club-muntanyenc-la-llagosta.html
CLASS:PUBLIC
END:VEVENT
END:VCALENDAR
