BEGIN:VCALENDAR
VERSION:2.0
CALSCALE:GREGORIAN
PRODID:-//Diputació de Barcelona//DibaCMS//EN
BEGIN:VEVENT
UID:5313
DTSTAMP:20260423T141654
DTSTART:20120731T000000
DTEND:20120801T000000
SUMMARY:L'Ajuntament obrirà dijous l'aparcament de vehicles situat davant del Centre Cultural 
LOCATION:
METHOD:PUBLISH
X-WR-CALNAME:llagosta@llagosta.cat
X-WR-TIMEZONE:Europe/Madrid
DESCRIPTION:Dijous, està previst que s'obri l'aparcament de vehicles de la plaça de l'Alcalde Sisó Pons, que actualment es troba en obres. Els treballs de millora d'aquest espai, que es troba davant del Centre Cultural, tenen un pressupost de 25.315 euros, a càrrec de l'Ajuntament de la Llagosta.
URI:https://www.llagosta.cat/actualitat/noticies/lajuntament-obrira-dijous-laparcament-de-vehicles-situat-davant-del-centre-cultural-.html
CLASS:PUBLIC
END:VEVENT
END:VCALENDAR
