BEGIN:VCALENDAR
VERSION:2.0
CALSCALE:GREGORIAN
PRODID:-//Diputació de Barcelona//DibaCMS//EN
BEGIN:VEVENT
UID:5312
DTSTAMP:20260424T093339
DTSTART:20120731T000000
DTEND:20120731T000000
SUMMARY:La Policia Local deté un veí de la Llagosta per violència de gènere
LOCATION:
METHOD:PUBLISH
X-WR-CALNAME:llagosta@llagosta.cat
X-WR-TIMEZONE:Europe/Madrid
DESCRIPTION:Un veí de la Llagosta de 42 anys va ser detingut ahir per la Policia Local com a presumpte autor d'un delicte de violència de gènere. L'home es va presentar a la Comissaria quan la seva exparella l'estava denunciant per agressió i va protagonitzar un incident amb els agents, per la qual cosa també se li imputa un delicte d'atemptat contra l'autoritat. 
URI:https://www.llagosta.cat/actualitat/noticies/la-policia-local-dete-un-vei-de-la-llagosta-per-violencia-de-genere.html
CLASS:PUBLIC
END:VEVENT
END:VCALENDAR
