BEGIN:VCALENDAR
VERSION:2.0
CALSCALE:GREGORIAN
PRODID:-//Diputació de Barcelona//DibaCMS//EN
BEGIN:VEVENT
UID:5311
DTSTAMP:20260424T043702
DTSTART:20120731T000000
DTEND:20130731T000000
SUMMARY:La Diputació lliura a l'Ajuntament de la Llagosta el Pla Local d'Habitatge 2012-2017
LOCATION:
METHOD:PUBLISH
X-WR-CALNAME:llagosta@llagosta.cat
X-WR-TIMEZONE:Europe/Madrid
DESCRIPTION:La Diputació de Barcelona ha lliurat a l'Ajuntament de la Llagosta el Pla Local d'Habitatge 2012-2017. El document, que inclou la resposta a les al·legacions realitzades al llarg del període d'informació pública, proposa una sèrie d'actuacions articulades al voltant de diverses línies estratègiques: l'enfortiment dels serveis municipals en matèria d'habitatge, la millora del parc existent o la creació d'habitatge protegit.
URI:https://www.llagosta.cat/actualitat/noticies/la-diputacio-lliura-a-lajuntament-de-la-llagosta-el-pla-local-dhabitatge-2012-2017.html
CLASS:PUBLIC
END:VEVENT
END:VCALENDAR
