BEGIN:VCALENDAR
VERSION:2.0
CALSCALE:GREGORIAN
PRODID:-//Diputació de Barcelona//DibaCMS//EN
BEGIN:VEVENT
UID:5309
DTSTAMP:20260423T205330
DTSTART:20120731T000000
DTEND:20120731T000000
SUMMARY:Aquesta tarda, jocs de taula en família al pati de l'Escola Joan Maragall
LOCATION:
METHOD:PUBLISH
X-WR-CALNAME:llagosta@llagosta.cat
X-WR-TIMEZONE:Europe/Madrid
DESCRIPTION:L'Escola Joan Maragall acollirà avui, entre les 19 i les 21 hores, jocs de taula en família. L'activitat forma part de la programació d'actes de l'estiu 2012. 
URI:https://www.llagosta.cat/actualitat/noticies/aquesta-tarda-jocs-de-taula-en-familia-al-pati-de-lescola-joan-maragall.html
CLASS:PUBLIC
END:VEVENT
END:VCALENDAR
