BEGIN:VCALENDAR
VERSION:2.0
CALSCALE:GREGORIAN
PRODID:-//Diputació de Barcelona//DibaCMS//EN
BEGIN:VEVENT
UID:5308
DTSTAMP:20260423T225427
DTSTART:20120730T000000
DTEND:20130730T000000
SUMMARY:Un veí de la Llagosta, detingut per la Policia Local divendres a la zona de la Riera Seca
LOCATION:
METHOD:PUBLISH
X-WR-CALNAME:llagosta@llagosta.cat
X-WR-TIMEZONE:Europe/Madrid
DESCRIPTION:La Policia Local de la Llagosta va detenir divendres un veí de la nostra població de 30 anys per atemptar contra l'autoritat, delicte contra la seguretat del trànsit i danys en mobiliari urbà. Els fets van passar a les 17.50 hores al costat del Poliesportiu Riera Seca.
URI:https://www.llagosta.cat/actualitat/noticies/un-vei-de-la-llagosta-detingut-per-la-policia-local-divendres-a-la-zona-de-la-riera-seca.html
CLASS:PUBLIC
END:VEVENT
END:VCALENDAR
