BEGIN:VCALENDAR
VERSION:2.0
CALSCALE:GREGORIAN
PRODID:-//Diputació de Barcelona//DibaCMS//EN
BEGIN:VEVENT
UID:5307
DTSTAMP:20260423T134933
DTSTART:20120730T000000
DTEND:20130730T000000
SUMMARY:Nova acció de protesta ahir contra els peatges a la barrera de la C-33 a la Llagosta
LOCATION:
METHOD:PUBLISH
X-WR-CALNAME:llagosta@llagosta.cat
X-WR-TIMEZONE:Europe/Madrid
DESCRIPTION:El peatge de l'autopista C-33, situat al terme municipal de la Llagosta, va ser la seu ahir d'un nou acte de protesta en el marc de la campanya #novullpagar. L'acció va tenir lloc al migdia i va provocar importants cues. Aquesta mesura es va dur a terme el mateix dia que pujava el preu de les autopistes que depenen del Govern Central d'un 7%. 
URI:https://www.llagosta.cat/actualitat/noticies/nova-accio-de-protesta-ahir-contra-els-peatges-a-la-barrera-de-la-c-33-a-la-llagosta.html
CLASS:PUBLIC
END:VEVENT
END:VCALENDAR
