BEGIN:VCALENDAR
VERSION:2.0
CALSCALE:GREGORIAN
PRODID:-//Diputació de Barcelona//DibaCMS//EN
BEGIN:VEVENT
UID:5306
DTSTAMP:20260424T043342
DTSTART:20120727T000000
DTEND:20130727T000000
SUMMARY:Un total de 97 persones van donar sang ahir en la tercera captació de l'any a la Llagosta
LOCATION:
METHOD:PUBLISH
X-WR-CALNAME:llagosta@llagosta.cat
X-WR-TIMEZONE:Europe/Madrid
DESCRIPTION:Més de 100 persones es van apropar ahir a la unitat mòbil que el Banc de Sang va instal·lar a la plaça d'Antoni Baqué. Concretament, es van registrar 97 donacions i sis persones més que no van poder donar sang per diversos motius. Ahir, el Banc de Sang va comptabilitzar set nous donants.
URI:https://www.llagosta.cat/actualitat/noticies/un-total-de-97-persones-van-donar-sang-ahir-en-la-tercera-captacio-de-lany-a-la-llagosta.html
CLASS:PUBLIC
END:VEVENT
END:VCALENDAR
