BEGIN:VCALENDAR
VERSION:2.0
CALSCALE:GREGORIAN
PRODID:-//Diputació de Barcelona//DibaCMS//EN
BEGIN:VEVENT
UID:5305
DTSTAMP:20260423T141338
DTSTART:20120727T000000
DTEND:20130727T000000
SUMMARY:L'Ajuntament aprova, en un ple, la intervenció del Turó si Geafe no fa el manteniment
LOCATION:
METHOD:PUBLISH
X-WR-CALNAME:llagosta@llagosta.cat
X-WR-TIMEZONE:Europe/Madrid
DESCRIPTION:El ple de l'Ajuntament de la Llagosta va aprovar ahir intervenir el Complex Esportiu Municipal El Turó si en un termini de quinze dies, després de la notificació, l'empresa Geafe, concessionària d'aquest servei, no atén els requeriments de manteniment que se li han fet en el darrer any. Aquest punt va sortir endavant amb el vot a favor dels grups que formen l'equip de govern (Iniciativa per Catalunya Verds–Esquerra Unida i Alternativa, Convergència i Unió i Ciutadans Progressistes per la Llagosta) i l'abstenció del Partit dels Socialistes i del Partit Popular.
URI:https://www.llagosta.cat/actualitat/noticies/lajuntament-aprova-en-un-ple-la-intervencio-del-turo-si-geafe-no-fa-el-manteniment.html
CLASS:PUBLIC
END:VEVENT
END:VCALENDAR
