BEGIN:VCALENDAR
VERSION:2.0
CALSCALE:GREGORIAN
PRODID:-//Diputació de Barcelona//DibaCMS//EN
BEGIN:VEVENT
UID:5303
DTSTAMP:20260423T202524
DTSTART:20120727T000000
DTEND:20130727T000000
SUMMARY:La Llagosta + Activa organitza aquesta nit una disco mòbil a la plaça d'Antoni Baqué
LOCATION:
METHOD:PUBLISH
X-WR-CALNAME:llagosta@llagosta.cat
X-WR-TIMEZONE:Europe/Madrid
DESCRIPTION:La plaça d'Antoni Baqué acollirà aquesta nit una disco mòbil organitzada pel col·lectiu La Llagosta + Activa. La sessió començarà a les deu de la nit. La disco mòbil estarà protagonitzada per Juanma Davinson i Dj Session, que punxaran música dance, house i latin music. La disco mòbil es farà aquest nit a partir de les deu a la plaça d'Antoni Baqué i es desenvoluparà fins a les dues de la matinada. 
URI:https://www.llagosta.cat/actualitat/noticies/la-llagosta--activa-organitza-aquesta-nit-una-disco-mobil-a-la-placa-dantoni-baque.html
CLASS:PUBLIC
END:VEVENT
END:VCALENDAR
