BEGIN:VCALENDAR
VERSION:2.0
CALSCALE:GREGORIAN
PRODID:-//Diputació de Barcelona//DibaCMS//EN
BEGIN:VEVENT
UID:5302
DTSTAMP:20260424T043813
DTSTART:20120726T000000
DTEND:20130726T000000
SUMMARY:L'EBC la Llagosta està treballant per tenir la propera temporada sis equips federats
LOCATION:
METHOD:PUBLISH
X-WR-CALNAME:llagosta@llagosta.cat
X-WR-TIMEZONE:Europe/Madrid
DESCRIPTION:L'Esportiu Bàsquet Club la Llagosta tindrà la propera temporada dos sèniors, un masculí i un femení, i un sub 21 masculí. La nova junta directiva del club està treballant també per acabar de confeccionar un altre sènior masculí, un cadet i un juvenil.
URI:https://www.llagosta.cat/actualitat/noticies/lebc-la-llagosta-esta-treballant-per-tenir-la-propera-temporada-sis-equips-federats.html
CLASS:PUBLIC
END:VEVENT
END:VCALENDAR
