BEGIN:VCALENDAR
VERSION:2.0
CALSCALE:GREGORIAN
PRODID:-//Diputació de Barcelona//DibaCMS//EN
BEGIN:VEVENT
UID:5301
DTSTAMP:20260424T053535
DTSTART:20120726T000000
DTEND:20130726T000000
SUMMARY:El Consistori, disposat a intervenir El Turó, si Geafe no fa el manteniment de l'equipament
LOCATION:
METHOD:PUBLISH
X-WR-CALNAME:llagosta@llagosta.cat
X-WR-TIMEZONE:Europe/Madrid
DESCRIPTION:L'Ajuntament de la Llagosta intervindrà el Complex Esportiu Municipal El Turó si en un termini de quinze dies l'empresa Geafe, concessionària d'aquest servei, no atén els requeriments de manteniment que se li han fet en el darrer any. Així ho van avançar ahir, en una roda de premsa, l'alcalde de la Llagosta, Alberto López, i el regidor d'Esports, Jesús Ríos. 
URI:https://www.llagosta.cat/actualitat/noticies/el-consistori-disposat-a-intervenir-el-turo-si-geafe-no-fa-el-manteniment-de-lequipament.html
CLASS:PUBLIC
END:VEVENT
END:VCALENDAR
