BEGIN:VCALENDAR
VERSION:2.0
CALSCALE:GREGORIAN
PRODID:-//Diputació de Barcelona//DibaCMS//EN
BEGIN:VEVENT
UID:5300
DTSTAMP:20260424T035754
DTSTART:20120726T000000
DTEND:20130726T000000
SUMMARY:Comencen les obres per condicionar el pàrquing situat davant del Centre Cultural
LOCATION:
METHOD:PUBLISH
X-WR-CALNAME:llagosta@llagosta.cat
X-WR-TIMEZONE:Europe/Madrid
DESCRIPTION:Aquesta setmana han començat les obres per condicionar l'aparcament de vehicles que hi ha a la plaça de l'Alcalde Sisó Pons, davant del Centre Cultural. L'Ajuntament de la Llagosta inverteix en aquesta actuació 25.315 euros.
URI:https://www.llagosta.cat/actualitat/noticies/comencen-les-obres-per-condicionar-el-parquing-situat-davant-del-centre-cultural.html
CLASS:PUBLIC
END:VEVENT
END:VCALENDAR
