BEGIN:VCALENDAR
VERSION:2.0
CALSCALE:GREGORIAN
PRODID:-//Diputació de Barcelona//DibaCMS//EN
BEGIN:VEVENT
UID:5299
DTSTAMP:20260424T093231
DTSTART:20120725T000000
DTEND:20130725T000000
SUMMARY:L'empresa SERSA obté la millor puntuació per a la neteja viària i recollida d'escombraries
LOCATION:
METHOD:PUBLISH
X-WR-CALNAME:llagosta@llagosta.cat
X-WR-TIMEZONE:Europe/Madrid
DESCRIPTION:El ple de l'Ajuntament de la Llagosta aprovarà demà la classificació de les empreses que opten a l'adjudicació del servei de recollida d'escombraries i de neteja viària de la nostra localitat. L'empresa Serveis Reunits Societat Anònima (SERSA) és la que ha obtingut una major puntuació.
URI:https://www.llagosta.cat/actualitat/noticies/lempresa-sersa-obte-la-millor-puntuacio-per-a-la-neteja-viaria-i-recollida-descombraries.html
CLASS:PUBLIC
END:VEVENT
END:VCALENDAR
