BEGIN:VCALENDAR
VERSION:2.0
CALSCALE:GREGORIAN
PRODID:-//Diputació de Barcelona//DibaCMS//EN
BEGIN:VEVENT
UID:5298
DTSTAMP:20260423T222214
DTSTART:20120725T000000
DTEND:20130725T000000
SUMMARY:El Banc de Sang farà demà una nova captació de sanguínia a la plaça d'Antoni Baqué
LOCATION:
METHOD:PUBLISH
X-WR-CALNAME:llagosta@llagosta.cat
X-WR-TIMEZONE:Europe/Madrid
DESCRIPTION:El Banc de Sang farà demà una nova captació de sang a la Llagosta. Els donants es podran adreçar a la plaça d'Antoni Baqué al matí, de deu a una, i a la tarda, de dos quarts de sis a dos quarts de deu.
URI:https://www.llagosta.cat/actualitat/noticies/el-banc-de-sang-fara-dema-una-nova-captacio-de-sanguinia-a-la-placa-dantoni-baque.html
CLASS:PUBLIC
END:VEVENT
END:VCALENDAR
