BEGIN:VCALENDAR
VERSION:2.0
CALSCALE:GREGORIAN
PRODID:-//Diputació de Barcelona//DibaCMS//EN
BEGIN:VEVENT
UID:5297
DTSTAMP:20260424T001856
DTSTART:20120725T000000
DTEND:20130725T000000
SUMMARY:Demà, penúltim concert a la fresca d'aquest estiu organitzat per La Llagosta + Activa
LOCATION:
METHOD:PUBLISH
X-WR-CALNAME:llagosta@llagosta.cat
X-WR-TIMEZONE:Europe/Madrid
DESCRIPTION:La Llagosta + Activa organitza aquesta setmana el penúltim concert a la fresca d'aquest estiu. El recital es farà al principi de l'avinguda de l'Onze de setembre, a la cantonada amb el carrer de la Riera Seca.
URI:https://www.llagosta.cat/actualitat/noticies/dema-penultim-concert-a-la-fresca-daquest-estiu-organitzat-per-la-llagosta--activa.html
CLASS:PUBLIC
END:VEVENT
END:VCALENDAR
