BEGIN:VCALENDAR
VERSION:2.0
CALSCALE:GREGORIAN
PRODID:-//Diputació de Barcelona//DibaCMS//EN
BEGIN:VEVENT
UID:5296
DTSTAMP:20260424T055654
DTSTART:20120724T000000
DTEND:20130724T000000
SUMMARY:Tres membres de Protecció Civil de la Llagosta col·laboren per extingir el foc de l'Alt Empordà
LOCATION:
METHOD:PUBLISH
X-WR-CALNAME:llagosta@llagosta.cat
X-WR-TIMEZONE:Europe/Madrid
DESCRIPTION:L'Associació de Voluntaris de Protecció Civil de la Llagosta ha estat col·laborant fins aquest matí en les tasques d'extinció de l'incendi de l'Alt Empordà. Tres membres del cos han format part del contingent de la Coordinadora de Protecció Civil del Vallès que ahir a la tarda es va traslladar fins a la zona.
URI:https://www.llagosta.cat/actualitat/noticies/tres-membres-de-proteccio-civil-de-la-llagosta-collaboren-per-extingir-el-foc-de-lalt-emporda.html
CLASS:PUBLIC
END:VEVENT
END:VCALENDAR
