BEGIN:VCALENDAR
VERSION:2.0
CALSCALE:GREGORIAN
PRODID:-//Diputació de Barcelona//DibaCMS//EN
BEGIN:VEVENT
UID:5295
DTSTAMP:20260424T075109
DTSTART:20120724T000000
DTEND:20130724T000000
SUMMARY:Els Mossos d'Esquadra donen consells per evitar robatoris o furts al carrer
LOCATION:
METHOD:PUBLISH
X-WR-CALNAME:llagosta@llagosta.cat
X-WR-TIMEZONE:Europe/Madrid
DESCRIPTION:Tenint en compte que a l'estiu tothom es relaxa i actua amb menys precaució, l'Oficina de Relacions amb la Comunitat de la Comissaria dels Mossos d'Esquadra de Mollet del Vallès ha donat una sèrie de consells per evitar ser objecte de robatoris amb violència i intimidació o de furts per descuit. 
URI:https://www.llagosta.cat/actualitat/noticies/els-mossos-desquadra-donen-consells-per-evitar-robatoris-o-furts-al-carrer.html
CLASS:PUBLIC
END:VEVENT
END:VCALENDAR
