BEGIN:VCALENDAR
VERSION:2.0
CALSCALE:GREGORIAN
PRODID:-//Diputació de Barcelona//DibaCMS//EN
BEGIN:VEVENT
UID:5294
DTSTAMP:20260424T021030
DTSTART:20120724T000000
DTEND:20130724T000000
SUMMARY:La Colla Gegantera de la Llagosta viatjarà a Andorra el proper cap de setmana
LOCATION:
METHOD:PUBLISH
X-WR-CALNAME:llagosta@llagosta.cat
X-WR-TIMEZONE:Europe/Madrid
DESCRIPTION:La Colla Gegantera de la Llagosta visitarà el proper cap de setmana la localitat andorrana de Sant Julià de Lòria. Només, la Torradeta participarà en aquesta trobada gegantera, que es farà dissabte al vespre.
URI:https://www.llagosta.cat/actualitat/noticies/la-colla-gegantera-de-la-llagosta-viatjara-a-andorra-el-proper-cap-de-setmana.html
CLASS:PUBLIC
END:VEVENT
END:VCALENDAR
