BEGIN:VCALENDAR
VERSION:2.0
CALSCALE:GREGORIAN
PRODID:-//Diputació de Barcelona//DibaCMS//EN
BEGIN:VEVENT
UID:5293
DTSTAMP:20260423T190827
DTSTART:20120724T000000
DTEND:20130724T000000
SUMMARY:S'han de prendre diverses precaucions a la Llagosta davant l'augment de partícules en suspensió
LOCATION:
METHOD:PUBLISH
X-WR-CALNAME:llagosta@llagosta.cat
X-WR-TIMEZONE:Europe/Madrid
DESCRIPTION:La Llagosta és una de les 40 poblacions catalanes on s'han de prendre algunes precaucions davant de l'augment de partícules en suspensió causat pels greus incendis de l'Alt Empordà. La Direcció General de Protecció Civil ha realitzat un seguit de recomanacions per evitar l'empitjorament d'aquesta situació.
URI:https://www.llagosta.cat/actualitat/noticies/shan-de-prendre-diverses-precaucions-a-la-llagosta-davant-laugment-de-particules-en-suspensio.html
CLASS:PUBLIC
END:VEVENT
END:VCALENDAR
