BEGIN:VCALENDAR
VERSION:2.0
CALSCALE:GREGORIAN
PRODID:-//Diputació de Barcelona//DibaCMS//EN
BEGIN:VEVENT
UID:5292
DTSTAMP:20260423T222251
DTSTART:20120724T000000
DTEND:20120724T000000
SUMMARY:Avís de la Direcció General de Protecció Civil
LOCATION:
METHOD:PUBLISH
X-WR-CALNAME:llagosta@llagosta.cat
X-WR-TIMEZONE:Europe/Madrid
DESCRIPTION:La Direcció General de Protecció Civil comunica que l’olor i les cendres de l’incendi de l’Alt Empordà estan sent empeses pel vent cap al sud i estan arribant a algunes comarques, sobretot de la costa. Cal tenir en compte que no representa un risc per a la població, per la qual cosa no es fa necessari limitar cap tipus d’activitat. Es recomana a aquelles persones amb malalties respiratòries, cròniques, i gent gran o infants que pugin sentir molèsties, que es tanquin a casa i si tenen problemes truquin al 112.
URI:https://www.llagosta.cat/actualitat/noticies/avis-de-la-direccio-general-de-proteccio-civil.html
CLASS:PUBLIC
END:VEVENT
END:VCALENDAR
