BEGIN:VCALENDAR
VERSION:2.0
CALSCALE:GREGORIAN
PRODID:-//Diputació de Barcelona//DibaCMS//EN
BEGIN:VEVENT
UID:5291
DTSTAMP:20260424T092914
DTSTART:20120723T000000
DTEND:20130722T000000
SUMMARY:El BVG Advocats, campió de les 24 hores de futbol sala organitzades pel CD la Concòrdia
LOCATION:
METHOD:PUBLISH
X-WR-CALNAME:llagosta@llagosta.cat
X-WR-TIMEZONE:Europe/Madrid
DESCRIPTION:El BVG Advocats, de la Llagosta, ha guanyat les 24 hores de futbol sala masculí, organitzades aquest cap de setmana pel Club Deportivo la Concòrdia. La competició, que va comptar amb la participació de deu equips, s'ha desenvolupat al Poliesportiu Riera Seca.
URI:https://www.llagosta.cat/actualitat/noticies/el-bvg-advocats-campio-de-les-24-hores-de-futbol-sala-organitzades-pel-cd-la-concordia.html
CLASS:PUBLIC
END:VEVENT
END:VCALENDAR
