BEGIN:VCALENDAR
VERSION:2.0
CALSCALE:GREGORIAN
PRODID:-//Diputació de Barcelona//DibaCMS//EN
BEGIN:VEVENT
UID:5290
DTSTAMP:20260424T035549
DTSTART:20120723T000000
DTEND:20130722T000000
SUMMARY:El Racó d'Esplai Sant Josep va posar ahir el punt final a deu dies de colònies
LOCATION:
METHOD:PUBLISH
X-WR-CALNAME:llagosta@llagosta.cat
X-WR-TIMEZONE:Europe/Madrid
DESCRIPTION:Ahir van finalitzar les colònies organitzades pel Racó d'Esplai Sant Josep de la Llagosta. Durant deu dies, 41 infants de la nostra localitat i Barcelona han compartit experiències a la casa de colònies l'Aldric, a Santa Cristina d'Aro.
URI:https://www.llagosta.cat/actualitat/noticies/el-raco-desplai-sant-josep-va-posar-ahir-el-punt-final-a-deu-dies-de-colonies.html
CLASS:PUBLIC
END:VEVENT
END:VCALENDAR
